Package: BSgenome Version: 1.76.0 Command: /Library/Frameworks/R.framework/Resources/bin/R CMD INSTALL BSgenome StartedAt: 2025-04-21 15:16:15 -0400 (Mon, 21 Apr 2025) EndedAt: 2025-04-21 15:16:32 -0400 (Mon, 21 Apr 2025) EllapsedTime: 16.7 seconds RetCode: 0 Status: OK