Package: BSgenome Version: 1.74.0 Command: /Library/Frameworks/R.framework/Resources/bin/R CMD check --install=check:BSgenome.install-out.txt --library=/Library/Frameworks/R.framework/Resources/library --no-vignettes --timings BSgenome_1.74.0.tar.gz StartedAt: 2024-11-08 21:51:45 -0500 (Fri, 08 Nov 2024) EndedAt: 2024-11-08 21:57:44 -0500 (Fri, 08 Nov 2024) EllapsedTime: 358.5 seconds RetCode: 0 Status: WARNINGS CheckDir: BSgenome.Rcheck Warnings: 1