Package: BSgenome Version: 1.76.0 Command: /Library/Frameworks/R.framework/Resources/bin/R CMD build --keep-empty-dirs --no-resave-data BSgenome StartedAt: 2025-04-21 15:47:34 -0400 (Mon, 21 Apr 2025) EndedAt: 2025-04-21 15:48:23 -0400 (Mon, 21 Apr 2025) EllapsedTime: 49.6 seconds RetCode: 0 Status: OK PackageFile: BSgenome_1.76.0.tar.gz PackageFileSize: 5.628 MiB