Package: BSgenome Version: 1.76.0 Command: /Library/Frameworks/R.framework/Resources/bin/R CMD INSTALL BSgenome StartedAt: 2025-04-28 19:10:08 -0400 (Mon, 28 Apr 2025) EndedAt: 2025-04-28 19:10:24 -0400 (Mon, 28 Apr 2025) EllapsedTime: 15.7 seconds RetCode: 0 Status: OK