Package: BSgenome Version: 1.76.0 Command: /Library/Frameworks/R.framework/Resources/bin/R CMD check --install=check:BSgenome.install-out.txt --library=/Library/Frameworks/R.framework/Resources/library --no-vignettes --timings BSgenome_1.76.0.tar.gz StartedAt: 2025-04-29 02:56:10 -0400 (Tue, 29 Apr 2025) EndedAt: 2025-04-29 02:58:42 -0400 (Tue, 29 Apr 2025) EllapsedTime: 151.5 seconds RetCode: 0 Status: WARNINGS CheckDir: BSgenome.Rcheck Warnings: 1