Package: BSgenome Version: 1.74.0 Command: /Library/Frameworks/R.framework/Resources/bin/R CMD build --keep-empty-dirs --no-resave-data BSgenome StartedAt: 2025-01-30 20:00:10 -0500 (Thu, 30 Jan 2025) EndedAt: 2025-01-30 20:02:32 -0500 (Thu, 30 Jan 2025) EllapsedTime: 142.7 seconds RetCode: 0 Status: OK PackageFile: BSgenome_1.74.0.tar.gz PackageFileSize: 5.629 MiB