Package: BRGenomics Version: 1.18.0 Command: /home/biocbuild/R/R/bin/R CMD check --install=check:BRGenomics.install-out.txt --library=/home/biocbuild/R/R/site-library --no-vignettes --timings BRGenomics_1.18.0.tar.gz StartedAt: 2025-01-31 04:31:08 -0000 (Fri, 31 Jan 2025) EndedAt: 2025-01-31 05:11:08 -0000 (Fri, 31 Jan 2025) EllapsedTime: 2400.2 seconds RetCode: None Status: TIMEOUT CheckDir: BRGenomics.Rcheck Warnings: NA