Package: BREW3R.r Version: 1.6.0 Command: /home/biocbuild/bbs-3.22-bioc/R/bin/R CMD build --keep-empty-dirs --no-resave-data --md5 BREW3R.r StartedAt: 2025-11-16 16:40:28 -0500 (Sun, 16 Nov 2025) EndedAt: 2025-11-16 16:41:00 -0500 (Sun, 16 Nov 2025) EllapsedTime: 32.0 seconds RetCode: 0 Status: OK PackageFile: BREW3R.r_1.6.0.tar.gz PackageFileSize: 1.888 MiB