Package: BRAIN Version: 1.54.0 Maintainer: Piotr Dittwald MaintainerEmail: piotr.dittwald at mimuw.edu.pl git_url: https://git.bioconductor.org/packages/BRAIN git_branch: RELEASE_3_21 git_last_commit: e7bf6b8 git_last_commit_date: 2025-04-15 10:12:53 -0400 (Tue, 15 Apr 2025)