Package: BPRMeth Version: 1.32.0 Command: F:\biocbuild\bbs-3.20-bioc\R\bin\R.exe CMD INSTALL BPRMeth StartedAt: 2025-01-30 15:51:45 -0500 (Thu, 30 Jan 2025) EndedAt: 2025-01-30 15:52:53 -0500 (Thu, 30 Jan 2025) EllapsedTime: 67.3 seconds RetCode: 0 Status: OK