Package: BPRMeth Version: 1.32.0 Command: rm -rf BPRMeth.buildbin-libdir && mkdir BPRMeth.buildbin-libdir && F:\biocbuild\bbs-3.20-bioc\R\bin\R.exe CMD INSTALL --build --library=BPRMeth.buildbin-libdir BPRMeth_1.32.0.tar.gz StartedAt: 2025-01-31 08:16:26 -0500 (Fri, 31 Jan 2025) EndedAt: 2025-01-31 08:17:24 -0500 (Fri, 31 Jan 2025) EllapsedTime: 58.6 seconds RetCode: 0 Status: OK PackageFile: BPRMeth_1.32.0.zip PackageFileSize: 3.299 MiB