Package: BPRMeth
Version: 1.32.0
Command: /Library/Frameworks/R.framework/Resources/bin/R CMD build --keep-empty-dirs --no-resave-data BPRMeth
StartedAt: 2025-02-10 17:25:46 -0500 (Mon, 10 Feb 2025)
EndedAt: 2025-02-10 17:28:59 -0500 (Mon, 10 Feb 2025)
EllapsedTime: 192.7 seconds
RetCode: 0
Status: OK
PackageFile: BPRMeth_1.32.0.tar.gz
PackageFileSize: 3.274 <A href="http://en.wikipedia.org/wiki/MiB" target="_blank">MiB</A>