Package: BPRMeth Version: 1.32.0 Command: rm -rf BPRMeth.buildbin-libdir && mkdir BPRMeth.buildbin-libdir && /Users/biocbuild/BBS/utils/build-universal.sh BPRMeth_1.32.0.tar.gz /Library/Frameworks/R.framework/Resources/bin/R BPRMeth.buildbin-libdir StartedAt: 2025-01-31 12:26:04 -0500 (Fri, 31 Jan 2025) EndedAt: 2025-01-31 12:27:09 -0500 (Fri, 31 Jan 2025) EllapsedTime: 65.1 seconds RetCode: 0 Status: OK PackageFile: BPRMeth_1.32.0.tgz PackageFileSize: 3.791 MiB