Package: BPRMeth Version: 1.34.0 Command: /home/biocbuild/R/R/bin/R CMD check --install=check:BPRMeth.install-out.txt --library=/home/biocbuild/R/R/site-library --no-vignettes --timings BPRMeth_1.34.0.tar.gz StartedAt: 2025-04-22 06:54:32 -0000 (Tue, 22 Apr 2025) EndedAt: 2025-04-22 06:57:34 -0000 (Tue, 22 Apr 2025) EllapsedTime: 182.1 seconds RetCode: 0 Status: OK CheckDir: BPRMeth.Rcheck Warnings: 0