##############################################################################
##############################################################################
###
### Running command:
###
###   /home/biocbuild/R/R/bin/R CMD build --keep-empty-dirs --no-resave-data BPRMeth
###
##############################################################################
##############################################################################


* checking for file ‘BPRMeth/DESCRIPTION’ ... OK
* preparing ‘BPRMeth’:
* checking DESCRIPTION meta-information ... OK
* cleaning src
* installing the package to build vignettes
* creating vignettes ... OK
* cleaning src
* checking for LF line-endings in source and make files and shell scripts
* checking for empty or unneeded directories
* building ‘BPRMeth_1.32.0.tar.gz’