Package: BPRMeth Version: 1.34.0 Command: /Library/Frameworks/R.framework/Resources/bin/R CMD check --install=check:BPRMeth.install-out.txt --library=/Library/Frameworks/R.framework/Resources/library --no-vignettes --timings BPRMeth_1.34.0.tar.gz StartedAt: 2025-04-21 18:26:22 -0400 (Mon, 21 Apr 2025) EndedAt: 2025-04-21 18:27:17 -0400 (Mon, 21 Apr 2025) EllapsedTime: 55.7 seconds RetCode: 0 Status: OK CheckDir: BPRMeth.Rcheck Warnings: 0