Package: BPRMeth Version: 1.34.0 Command: rm -rf BPRMeth.buildbin-libdir && mkdir BPRMeth.buildbin-libdir && /Users/biocbuild/BBS/utils/build-universal.sh BPRMeth_1.34.0.tar.gz /Library/Frameworks/R.framework/Resources/bin/R BPRMeth.buildbin-libdir StartedAt: 2025-04-21 22:28:09 -0400 (Mon, 21 Apr 2025) EndedAt: 2025-04-21 22:28:21 -0400 (Mon, 21 Apr 2025) EllapsedTime: 11.2 seconds RetCode: 0 Status: OK PackageFile: BPRMeth_1.34.0.tgz PackageFileSize: 3.792 MiB