Package: BPRMeth Version: 1.34.0 Command: /Library/Frameworks/R.framework/Resources/bin/R CMD INSTALL BPRMeth StartedAt: 2025-04-24 16:53:02 -0400 (Thu, 24 Apr 2025) EndedAt: 2025-04-24 16:53:24 -0400 (Thu, 24 Apr 2025) EllapsedTime: 22.1 seconds RetCode: 0 Status: OK