Package: BPRMeth Version: 1.34.0 Command: /Library/Frameworks/R.framework/Resources/bin/R CMD check --install=check:BPRMeth.install-out.txt --library=/Library/Frameworks/R.framework/Resources/library --no-vignettes --timings BPRMeth_1.34.0.tar.gz StartedAt: 2025-05-06 13:32:14 -0400 (Tue, 06 May 2025) EndedAt: 2025-05-06 13:34:52 -0400 (Tue, 06 May 2025) EllapsedTime: 157.7 seconds RetCode: 0 Status: OK CheckDir: BPRMeth.Rcheck Warnings: 0