Package: BPRMeth Version: 1.34.0 Command: rm -rf BPRMeth.buildbin-libdir && mkdir BPRMeth.buildbin-libdir && /Users/biocbuild/BBS/utils/build-universal.sh BPRMeth_1.34.0.tar.gz /Library/Frameworks/R.framework/Resources/bin/R BPRMeth.buildbin-libdir StartedAt: 2025-04-29 12:17:46 -0400 (Tue, 29 Apr 2025) EndedAt: 2025-04-29 12:17:58 -0400 (Tue, 29 Apr 2025) EllapsedTime: 12.1 seconds RetCode: 0 Status: OK PackageFile: BPRMeth_1.34.0.tgz PackageFileSize: 3.792 MiB