Package: BG2 Version: 1.8.0 Maintainer: Jacob Williams MaintainerEmail: jwilliams at vt.edu git_url: https://git.bioconductor.org/packages/BG2 git_branch: RELEASE_3_21 git_last_commit: af323f1 git_last_commit_date: 2025-04-15 13:01:07 -0400 (Tue, 15 Apr 2025)