Package: BERT Version: 1.2.0 Command: /home/biocbuild/R/R/bin/R CMD INSTALL BERT StartedAt: 2025-01-30 20:51:18 -0000 (Thu, 30 Jan 2025) EndedAt: 2025-01-30 20:51:21 -0000 (Thu, 30 Jan 2025) EllapsedTime: 3.5 seconds RetCode: 0 Status: OK