Package: BERT Version: 1.2.0 Command: /home/biocbuild/R/R/bin/R CMD build --keep-empty-dirs --no-resave-data BERT StartedAt: 2025-01-30 21:50:19 -0000 (Thu, 30 Jan 2025) EndedAt: 2025-01-30 21:50:48 -0000 (Thu, 30 Jan 2025) EllapsedTime: 29.0 seconds RetCode: 0 Status: OK PackageFile: BERT_1.2.0.tar.gz PackageFileSize: 283.6 KiB