Package: BERT Version: 1.2.0 Command: rm -rf BERT.buildbin-libdir && mkdir BERT.buildbin-libdir && F:\biocbuild\bbs-3.20-bioc\R\bin\R.exe CMD INSTALL --build --library=BERT.buildbin-libdir BERT_1.2.0.tar.gz StartedAt: 2025-01-31 08:12:38 -0500 (Fri, 31 Jan 2025) EndedAt: 2025-01-31 08:12:52 -0500 (Fri, 31 Jan 2025) EllapsedTime: 13.8 seconds RetCode: 0 Status: OK PackageFile: BERT_1.2.0.zip PackageFileSize: 327.4 KiB