Package: BERT Version: 1.2.0 Command: /home/biocbuild/bbs-3.20-bioc/R/bin/R CMD INSTALL BERT StartedAt: 2025-01-30 15:44:38 -0500 (Thu, 30 Jan 2025) EndedAt: 2025-01-30 15:44:41 -0500 (Thu, 30 Jan 2025) EllapsedTime: 2.5 seconds RetCode: 0 Status: OK