Package: BERT Version: 1.2.0 Command: /home/biocbuild/bbs-3.20-bioc/R/bin/R CMD check --install=check:BERT.install-out.txt --library=/home/biocbuild/bbs-3.20-bioc/R/site-library --timings BERT_1.2.0.tar.gz StartedAt: 2025-01-30 20:09:33 -0500 (Thu, 30 Jan 2025) EndedAt: 2025-01-30 20:11:01 -0500 (Thu, 30 Jan 2025) EllapsedTime: 88.1 seconds RetCode: 0 Status: OK CheckDir: BERT.Rcheck Warnings: 0