Package: BERT Version: 1.2.0 Command: /Library/Frameworks/R.framework/Resources/bin/R CMD check --install=check:BERT.install-out.txt --library=/Library/Frameworks/R.framework/Resources/library --no-vignettes --timings BERT_1.2.0.tar.gz StartedAt: 2025-01-31 11:59:31 -0500 (Fri, 31 Jan 2025) EndedAt: 2025-01-31 12:00:39 -0500 (Fri, 31 Jan 2025) EllapsedTime: 68.2 seconds RetCode: 0 Status: OK CheckDir: BERT.Rcheck Warnings: 0