Package: BEAT Version: 1.44.0 Command: /home/biocbuild/R/R/bin/R CMD INSTALL BEAT StartedAt: 2025-01-30 20:28:05 -0000 (Thu, 30 Jan 2025) EndedAt: 2025-01-30 20:28:49 -0000 (Thu, 30 Jan 2025) EllapsedTime: 43.8 seconds RetCode: 0 Status: OK