Package: BEAT Version: 1.44.0 Command: /home/biocbuild/R/R/bin/R CMD build --keep-empty-dirs --no-resave-data BEAT StartedAt: 2025-01-30 21:48:38 -0000 (Thu, 30 Jan 2025) EndedAt: 2025-01-30 21:50:15 -0000 (Thu, 30 Jan 2025) EllapsedTime: 97.0 seconds RetCode: 0 Status: OK PackageFile: BEAT_1.44.0.tar.gz PackageFileSize: 3.276 MiB