Package: BEAT Version: 1.44.0 Command: rm -rf BEAT.buildbin-libdir && mkdir BEAT.buildbin-libdir && F:\biocbuild\bbs-3.20-bioc\R\bin\R.exe CMD INSTALL --build --library=BEAT.buildbin-libdir BEAT_1.44.0.tar.gz StartedAt: 2025-02-04 08:01:49 -0500 (Tue, 04 Feb 2025) EndedAt: 2025-02-04 08:02:30 -0500 (Tue, 04 Feb 2025) EllapsedTime: 41.5 seconds RetCode: 0 Status: OK PackageFile: BEAT_1.44.0.zip PackageFileSize: 3.082 MiB