Package: BEAT Version: 1.44.0 Command: /home/biocbuild/bbs-3.20-bioc/R/bin/R CMD build --keep-empty-dirs --no-resave-data --md5 BEAT StartedAt: 2025-01-30 16:19:30 -0500 (Thu, 30 Jan 2025) EndedAt: 2025-01-30 16:20:59 -0500 (Thu, 30 Jan 2025) EllapsedTime: 89.0 seconds RetCode: 0 Status: OK PackageFile: BEAT_1.44.0.tar.gz PackageFileSize: 3.294 MiB