Package: BEAT Version: 1.44.0 Command: rm -rf BEAT.buildbin-libdir && mkdir BEAT.buildbin-libdir && /Users/biocbuild/BBS/utils/build-universal.sh BEAT_1.44.0.tar.gz /Library/Frameworks/R.framework/Resources/bin/R BEAT.buildbin-libdir StartedAt: 2025-01-31 12:23:01 -0500 (Fri, 31 Jan 2025) EndedAt: 2025-01-31 12:24:24 -0500 (Fri, 31 Jan 2025) EllapsedTime: 83.2 seconds RetCode: 0 Status: OK PackageFile: BEAT_1.44.0.tgz PackageFileSize: 3.349 MiB