Package: BEAT Version: 1.44.0 Command: /home/biocbuild/R/R/bin/R CMD build --keep-empty-dirs --no-resave-data BEAT StartedAt: 2024-11-19 23:02:57 -0000 (Tue, 19 Nov 2024) EndedAt: 2024-11-19 23:04:50 -0000 (Tue, 19 Nov 2024) EllapsedTime: 113.1 seconds RetCode: 0 Status: OK PackageFile: BEAT_1.44.0.tar.gz PackageFileSize: 3.276 MiB