Package: BEAT Version: 1.44.0 Command: /Library/Frameworks/R.framework/Resources/bin/R CMD build --keep-empty-dirs --no-resave-data BEAT StartedAt: 2024-11-08 16:06:52 -0500 (Fri, 08 Nov 2024) EndedAt: 2024-11-08 16:07:21 -0500 (Fri, 08 Nov 2024) EllapsedTime: 29.3 seconds RetCode: 0 Status: OK PackageFile: BEAT_1.44.0.tar.gz PackageFileSize: 3.293 MiB