Package: BEAT Version: 1.44.0 Command: /Library/Frameworks/R.framework/Resources/bin/R CMD INSTALL BEAT StartedAt: 2025-01-30 16:18:47 -0500 (Thu, 30 Jan 2025) EndedAt: 2025-01-30 16:19:30 -0500 (Thu, 30 Jan 2025) EllapsedTime: 43.6 seconds RetCode: 0 Status: OK