Package: BEAT Version: 1.44.0 Command: /Library/Frameworks/R.framework/Resources/bin/R CMD check --install=check:BEAT.install-out.txt --library=/Library/Frameworks/R.framework/Resources/library --no-vignettes --timings BEAT_1.44.0.tar.gz StartedAt: 2025-01-31 11:55:57 -0500 (Fri, 31 Jan 2025) EndedAt: 2025-01-31 12:01:12 -0500 (Fri, 31 Jan 2025) EllapsedTime: 315.2 seconds RetCode: 0 Status: OK CheckDir: BEAT.Rcheck Warnings: 0