Package: BEAT Version: 1.44.0 Command: /Library/Frameworks/R.framework/Resources/bin/R CMD build --keep-empty-dirs --no-resave-data BEAT StartedAt: 2025-01-30 19:26:24 -0500 (Thu, 30 Jan 2025) EndedAt: 2025-01-30 19:28:06 -0500 (Thu, 30 Jan 2025) EllapsedTime: 102.3 seconds RetCode: 0 Status: OK PackageFile: BEAT_1.44.0.tar.gz PackageFileSize: 3.291 MiB