Package: BEARscc Version: 1.26.0 Command: /home/biocbuild/R/R/bin/R CMD INSTALL BEARscc StartedAt: 2025-01-30 20:19:07 -0000 (Thu, 30 Jan 2025) EndedAt: 2025-01-30 20:19:47 -0000 (Thu, 30 Jan 2025) EllapsedTime: 39.1 seconds RetCode: 0 Status: OK