Package: BCRANK Version: 1.68.0 Command: /home/biocbuild/R/R/bin/R CMD INSTALL BCRANK StartedAt: 2025-01-30 20:14:33 -0000 (Thu, 30 Jan 2025) EndedAt: 2025-01-30 20:14:46 -0000 (Thu, 30 Jan 2025) EllapsedTime: 13.0 seconds RetCode: 0 Status: OK