Package: BCRANK Version: 1.68.0 Command: /home/biocbuild/R/R/bin/R CMD check --install=check:BCRANK.install-out.txt --library=/home/biocbuild/R/R/site-library --no-vignettes --timings BCRANK_1.68.0.tar.gz StartedAt: 2025-01-31 04:03:04 -0000 (Fri, 31 Jan 2025) EndedAt: 2025-01-31 04:04:49 -0000 (Fri, 31 Jan 2025) EllapsedTime: 105.1 seconds RetCode: 0 Status: OK CheckDir: BCRANK.Rcheck Warnings: 0