Package: BANDITS
Version: 1.22.0
Command: /home/biocbuild/R/R/bin/R CMD check --install=check:BANDITS.install-out.txt --library=/home/biocbuild/R/R/site-library --no-vignettes --timings BANDITS_1.22.0.tar.gz
StartedAt: 2025-02-11 03:51:56 -0000 (Tue, 11 Feb 2025)
EndedAt: 2025-02-11 03:54:48 -0000 (Tue, 11 Feb 2025)
EllapsedTime: 171.1 seconds
RetCode: 0
Status: OK
CheckDir: BANDITS.Rcheck
Warnings: 0