Package: BAGS Version: 2.46.0 Command: /home/biocbuild/R/R/bin/R CMD INSTALL BAGS StartedAt: 2025-02-03 20:22:03 -0000 (Mon, 03 Feb 2025) EndedAt: 2025-02-03 20:22:08 -0000 (Mon, 03 Feb 2025) EllapsedTime: 5.1 seconds RetCode: 0 Status: OK