Package: BAGS Version: 2.46.0 Command: F:\biocbuild\bbs-3.20-bioc\R\bin\R.exe CMD INSTALL BAGS StartedAt: 2025-02-03 15:36:09 -0500 (Mon, 03 Feb 2025) EndedAt: 2025-02-03 15:36:22 -0500 (Mon, 03 Feb 2025) EllapsedTime: 12.9 seconds RetCode: 0 Status: OK