Package: BAGS Version: 2.46.0 Command: rm -rf BAGS.buildbin-libdir && mkdir BAGS.buildbin-libdir && F:\biocbuild\bbs-3.20-bioc\R\bin\R.exe CMD INSTALL --build --library=BAGS.buildbin-libdir BAGS_2.46.0.tar.gz StartedAt: 2025-02-11 07:56:37 -0500 (Tue, 11 Feb 2025) EndedAt: 2025-02-11 07:56:49 -0500 (Tue, 11 Feb 2025) EllapsedTime: 12.5 seconds RetCode: 0 Status: OK PackageFile: BAGS_2.46.0.zip PackageFileSize: 245.9 KiB