Package: BAGS Version: 2.45.0 Command: rm -rf BAGS.buildbin-libdir && mkdir BAGS.buildbin-libdir && F:\biocbuild\bbs-3.20-bioc\R\bin\R.exe CMD INSTALL --build --library=BAGS.buildbin-libdir BAGS_2.45.0.tar.gz StartedAt: 2024-06-10 12:54:06 -0400 (Mon, 10 Jun 2024) EndedAt: 2024-06-10 12:54:42 -0400 (Mon, 10 Jun 2024) EllapsedTime: 36.5 seconds RetCode: 0 Status: OK PackageFile: BAGS_2.45.0.zip PackageFileSize: 246.2 KiB