Package: BAGS Version: 2.46.0 Command: /home/biocbuild/bbs-3.20-bioc/R/bin/R CMD INSTALL BAGS StartedAt: 2025-02-03 15:13:47 -0500 (Mon, 03 Feb 2025) EndedAt: 2025-02-03 15:13:52 -0500 (Mon, 03 Feb 2025) EllapsedTime: 4.5 seconds RetCode: 0 Status: OK