Package: BAGS Version: 2.46.0 Command: /home/biocbuild/bbs-3.20-bioc/R/bin/R CMD check --install=check:BAGS.install-out.txt --library=/home/biocbuild/bbs-3.20-bioc/R/site-library --timings BAGS_2.46.0.tar.gz StartedAt: 2025-02-03 20:10:50 -0500 (Mon, 03 Feb 2025) EndedAt: 2025-02-03 20:11:54 -0500 (Mon, 03 Feb 2025) EllapsedTime: 64.0 seconds RetCode: 0 Status: OK CheckDir: BAGS.Rcheck Warnings: 0