Package: BAGS Version: 2.46.0 Command: /Library/Frameworks/R.framework/Resources/bin/R CMD INSTALL BAGS StartedAt: 2025-01-30 15:07:09 -0500 (Thu, 30 Jan 2025) EndedAt: 2025-01-30 15:07:19 -0500 (Thu, 30 Jan 2025) EllapsedTime: 10.2 seconds RetCode: 0 Status: OK