Package: BAGS Version: 2.46.0 Command: /Library/Frameworks/R.framework/Resources/bin/R CMD check --install=check:BAGS.install-out.txt --library=/Library/Frameworks/R.framework/Resources/library --no-vignettes --timings BAGS_2.46.0.tar.gz StartedAt: 2025-02-03 23:55:12 -0500 (Mon, 03 Feb 2025) EndedAt: 2025-02-03 23:57:21 -0500 (Mon, 03 Feb 2025) EllapsedTime: 128.6 seconds RetCode: 0 Status: OK CheckDir: BAGS.Rcheck Warnings: 0