Package: BAGS Version: 2.46.0 Command: rm -rf BAGS.buildbin-libdir && mkdir BAGS.buildbin-libdir && /Users/biocbuild/BBS/utils/build-universal.sh BAGS_2.46.0.tar.gz /Library/Frameworks/R.framework/Resources/bin/R BAGS.buildbin-libdir StartedAt: 2025-01-31 12:21:22 -0500 (Fri, 31 Jan 2025) EndedAt: 2025-01-31 12:21:33 -0500 (Fri, 31 Jan 2025) EllapsedTime: 11.0 seconds RetCode: 0 Status: OK PackageFile: BAGS_2.46.0.tgz PackageFileSize: 316.9 KiB